BEGIN:VCALENDAR
VERSION:2.0
PRODID:-//Llano River Golf Course - Llano, TX - ECPv6.15.20//NONSGML v1.0//EN
CALSCALE:GREGORIAN
METHOD:PUBLISH
X-WR-CALNAME:Llano River Golf Course - Llano, TX
X-ORIGINAL-URL:https://golfllano.com
X-WR-CALDESC:Events for Llano River Golf Course - Llano, TX
REFRESH-INTERVAL;VALUE=DURATION:PT1H
X-Robots-Tag:noindex
X-PUBLISHED-TTL:PT1H
BEGIN:VTIMEZONE
TZID:America/Chicago
BEGIN:DAYLIGHT
TZOFFSETFROM:-0600
TZOFFSETTO:-0500
TZNAME:CDT
DTSTART:20250309T080000
END:DAYLIGHT
BEGIN:STANDARD
TZOFFSETFROM:-0500
TZOFFSETTO:-0600
TZNAME:CST
DTSTART:20251102T070000
END:STANDARD
BEGIN:DAYLIGHT
TZOFFSETFROM:-0600
TZOFFSETTO:-0500
TZNAME:CDT
DTSTART:20260308T080000
END:DAYLIGHT
BEGIN:STANDARD
TZOFFSETFROM:-0500
TZOFFSETTO:-0600
TZNAME:CST
DTSTART:20261101T070000
END:STANDARD
BEGIN:DAYLIGHT
TZOFFSETFROM:-0600
TZOFFSETTO:-0500
TZNAME:CDT
DTSTART:20270314T080000
END:DAYLIGHT
BEGIN:STANDARD
TZOFFSETFROM:-0500
TZOFFSETTO:-0600
TZNAME:CST
DTSTART:20271107T070000
END:STANDARD
END:VTIMEZONE
BEGIN:VEVENT
DTSTART;TZID=America/Chicago:20260330T080000
DTEND;TZID=America/Chicago:20260330T143000
DTSTAMP:20260424T032312
CREATED:20251218T161133Z
LAST-MODIFIED:20251218T162303Z
UID:10000019-1774857600-1774881000@golfllano.com
SUMMARY:DISTRICT 29-AA GOLF TOURNAMENT
DESCRIPTION:
URL:https://golfllano.com/event/district-29-aa-golf-tournament/2026-03-30/
END:VEVENT
BEGIN:VEVENT
DTSTART;TZID=America/Chicago:20260406T080000
DTEND;TZID=America/Chicago:20260406T143000
DTSTAMP:20260424T032312
CREATED:20251218T161133Z
LAST-MODIFIED:20251218T162303Z
UID:10000020-1775462400-1775485800@golfllano.com
SUMMARY:DISTRICT 29-AA GOLF TOURNAMENT
DESCRIPTION:
URL:https://golfllano.com/event/district-29-aa-golf-tournament/2026-04-06/
END:VEVENT
BEGIN:VEVENT
DTSTART;TZID=America/Chicago:20260410T080000
DTEND;TZID=America/Chicago:20260410T143000
DTSTAMP:20260424T032312
CREATED:20251218T160847Z
LAST-MODIFIED:20260329T141411Z
UID:10000018-1775808000-1775831400@golfllano.com
SUMMARY:LLANO YOUNG LIFE tOURNAMENT
DESCRIPTION:
URL:https://golfllano.com/event/llano-young-life/
END:VEVENT
BEGIN:VEVENT
DTSTART;TZID=America/Chicago:20260417T080000
DTEND;TZID=America/Chicago:20260418T190000
DTSTAMP:20260424T032312
CREATED:20251218T160741Z
LAST-MODIFIED:20260202T204057Z
UID:10000017-1776412800-1776538800@golfllano.com
SUMMARY:CRAWFISH OPEN
DESCRIPTION:
URL:https://golfllano.com/event/crawfish-open/
END:VEVENT
BEGIN:VEVENT
DTSTART;TZID=America/Chicago:20260422T153000
DTEND;TZID=America/Chicago:20260422T153000
DTSTAMP:20260424T032312
CREATED:20260421T164603Z
LAST-MODIFIED:20260421T164605Z
UID:10000049-1776871800-1776871800@golfllano.com
SUMMARY:Llano Jr. High Invitational
DESCRIPTION:
URL:https://golfllano.com/event/llano-jr-high-invitational/2026-04-22/
END:VEVENT
BEGIN:VEVENT
DTSTART;TZID=America/Chicago:20260423T173000
DTEND;TZID=America/Chicago:20260423T173000
DTSTAMP:20260424T032312
CREATED:20260421T163555Z
LAST-MODIFIED:20260421T163751Z
UID:10000031-1776965400-1776965400@golfllano.com
SUMMARY:Thursday Scramble
DESCRIPTION:Please call in a register by 4:30pm
URL:https://golfllano.com/event/thursday-scrambles/2026-04-23/
END:VEVENT
BEGIN:VEVENT
DTSTART;TZID=America/Chicago:20260429T153000
DTEND;TZID=America/Chicago:20260429T153000
DTSTAMP:20260424T032312
CREATED:20260421T164603Z
LAST-MODIFIED:20260421T164605Z
UID:10000050-1777476600-1777476600@golfllano.com
SUMMARY:Llano Jr. High Invitational
DESCRIPTION:
URL:https://golfllano.com/event/llano-jr-high-invitational/2026-04-29/
END:VEVENT
BEGIN:VEVENT
DTSTART;TZID=America/Chicago:20260430T173000
DTEND;TZID=America/Chicago:20260430T173000
DTSTAMP:20260424T032312
CREATED:20260421T163555Z
LAST-MODIFIED:20260421T163751Z
UID:10000032-1777570200-1777570200@golfllano.com
SUMMARY:Thursday Scramble
DESCRIPTION:Please call in a register by 4:30pm
URL:https://golfllano.com/event/thursday-scrambles/2026-04-30/
END:VEVENT
BEGIN:VEVENT
DTSTART;TZID=America/Chicago:20260502T090000
DTEND;TZID=America/Chicago:20260502T140000
DTSTAMP:20260424T032312
CREATED:20260317T151554Z
LAST-MODIFIED:20260317T151557Z
UID:10000028-1777712400-1777730400@golfllano.com
SUMMARY:Jose Lopez Benefit 4 Person Scramble
DESCRIPTION:
URL:https://golfllano.com/event/jose-lopez-benefit-4-person-scramble/
END:VEVENT
BEGIN:VEVENT
DTSTART;TZID=America/Chicago:20260507T173000
DTEND;TZID=America/Chicago:20260507T173000
DTSTAMP:20260424T032312
CREATED:20260421T163555Z
LAST-MODIFIED:20260421T163751Z
UID:10000033-1778175000-1778175000@golfllano.com
SUMMARY:Thursday Scramble
DESCRIPTION:Please call in a register by 4:30pm
URL:https://golfllano.com/event/thursday-scrambles/2026-05-07/
END:VEVENT
BEGIN:VEVENT
DTSTART;TZID=America/Chicago:20260514T173000
DTEND;TZID=America/Chicago:20260514T173000
DTSTAMP:20260424T032312
CREATED:20260421T163555Z
LAST-MODIFIED:20260421T163751Z
UID:10000034-1778779800-1778779800@golfllano.com
SUMMARY:Thursday Scramble
DESCRIPTION:Please call in a register by 4:30pm
URL:https://golfllano.com/event/thursday-scrambles/2026-05-14/
END:VEVENT
BEGIN:VEVENT
DTSTART;TZID=America/Chicago:20260516T090000
DTEND;TZID=America/Chicago:20260516T090000
DTSTAMP:20260424T032312
CREATED:20260421T161254Z
LAST-MODIFIED:20260421T161254Z
UID:10000029-1778922000-1778922000@golfllano.com
SUMMARY:MIKE AND aNGELA aLLRED mEMORIAL bAND BENEFIT pROGRAM
DESCRIPTION:Deadline to Signup is May 9th\, 2026
URL:https://golfllano.com/event/mike-and-angela-allred-memorial-band-benefit-program/
END:VEVENT
BEGIN:VEVENT
DTSTART;TZID=America/Chicago:20260521T173000
DTEND;TZID=America/Chicago:20260521T173000
DTSTAMP:20260424T032312
CREATED:20260421T163555Z
LAST-MODIFIED:20260421T163751Z
UID:10000035-1779384600-1779384600@golfllano.com
SUMMARY:Thursday Scramble
DESCRIPTION:Please call in a register by 4:30pm
URL:https://golfllano.com/event/thursday-scrambles/2026-05-21/
END:VEVENT
BEGIN:VEVENT
DTSTART;TZID=America/Chicago:20260528T173000
DTEND;TZID=America/Chicago:20260528T173000
DTSTAMP:20260424T032312
CREATED:20260421T163555Z
LAST-MODIFIED:20260421T163751Z
UID:10000036-1779989400-1779989400@golfllano.com
SUMMARY:Thursday Scramble
DESCRIPTION:Please call in a register by 4:30pm
URL:https://golfllano.com/event/thursday-scrambles/2026-05-28/
END:VEVENT
BEGIN:VEVENT
DTSTART;TZID=America/Chicago:20260603T080000
DTEND;TZID=America/Chicago:20260603T143000
DTSTAMP:20260424T032312
CREATED:20251218T154722Z
LAST-MODIFIED:20251218T162552Z
UID:10000021-1780473600-1780497000@golfllano.com
SUMMARY:WEST TEXAS JR. TOUR
DESCRIPTION:
URL:https://golfllano.com/event/west-texas-jr-tour/2026-06-03/
END:VEVENT
BEGIN:VEVENT
DTSTART;TZID=America/Chicago:20260604T173000
DTEND;TZID=America/Chicago:20260604T173000
DTSTAMP:20260424T032312
CREATED:20260421T163555Z
LAST-MODIFIED:20260421T163751Z
UID:10000037-1780594200-1780594200@golfllano.com
SUMMARY:Thursday Scramble
DESCRIPTION:Please call in a register by 4:30pm
URL:https://golfllano.com/event/thursday-scrambles/2026-06-04/
END:VEVENT
BEGIN:VEVENT
DTSTART;TZID=America/Chicago:20260606T100000
DTEND;TZID=America/Chicago:20260607T153000
DTSTAMP:20260424T032312
CREATED:20260202T194928Z
LAST-MODIFIED:20260202T195004Z
UID:10000026-1780740000-1780846200@golfllano.com
SUMMARY:Wayne Bowden Memorial Classic 2 Person Scramble
DESCRIPTION:Please bring cash to register and for the player discussion
URL:https://golfllano.com/event/wayne-bowden-memorial-classic-2-person-scramble/
END:VEVENT
BEGIN:VEVENT
DTSTART;TZID=America/Chicago:20260611T173000
DTEND;TZID=America/Chicago:20260611T173000
DTSTAMP:20260424T032312
CREATED:20260421T163555Z
LAST-MODIFIED:20260421T163751Z
UID:10000038-1781199000-1781199000@golfllano.com
SUMMARY:Thursday Scramble
DESCRIPTION:Please call in a register by 4:30pm
URL:https://golfllano.com/event/thursday-scrambles/2026-06-11/
END:VEVENT
BEGIN:VEVENT
DTSTART;TZID=America/Chicago:20260618T173000
DTEND;TZID=America/Chicago:20260618T173000
DTSTAMP:20260424T032312
CREATED:20260421T163555Z
LAST-MODIFIED:20260421T163751Z
UID:10000039-1781803800-1781803800@golfllano.com
SUMMARY:Thursday Scramble
DESCRIPTION:Please call in a register by 4:30pm
URL:https://golfllano.com/event/thursday-scrambles/2026-06-18/
END:VEVENT
BEGIN:VEVENT
DTSTART;TZID=America/Chicago:20260625T173000
DTEND;TZID=America/Chicago:20260625T173000
DTSTAMP:20260424T032312
CREATED:20260421T163555Z
LAST-MODIFIED:20260421T163751Z
UID:10000040-1782408600-1782408600@golfllano.com
SUMMARY:Thursday Scramble
DESCRIPTION:Please call in a register by 4:30pm
URL:https://golfllano.com/event/thursday-scrambles/2026-06-25/
END:VEVENT
BEGIN:VEVENT
DTSTART;TZID=America/Chicago:20260702T173000
DTEND;TZID=America/Chicago:20260702T173000
DTSTAMP:20260424T032312
CREATED:20260421T163555Z
LAST-MODIFIED:20260421T163751Z
UID:10000041-1783013400-1783013400@golfllano.com
SUMMARY:Thursday Scramble
DESCRIPTION:Please call in a register by 4:30pm
URL:https://golfllano.com/event/thursday-scrambles/2026-07-02/
END:VEVENT
BEGIN:VEVENT
DTSTART;TZID=America/Chicago:20260709T173000
DTEND;TZID=America/Chicago:20260709T173000
DTSTAMP:20260424T032312
CREATED:20260421T163555Z
LAST-MODIFIED:20260421T163751Z
UID:10000042-1783618200-1783618200@golfllano.com
SUMMARY:Thursday Scramble
DESCRIPTION:Please call in a register by 4:30pm
URL:https://golfllano.com/event/thursday-scrambles/2026-07-09/
END:VEVENT
BEGIN:VEVENT
DTSTART;TZID=America/Chicago:20260711T100000
DTEND;TZID=America/Chicago:20260712T153000
DTSTAMP:20260424T032312
CREATED:20260202T204834Z
LAST-MODIFIED:20260202T204836Z
UID:10000027-1783764000-1783870200@golfllano.com
SUMMARY:LRGA 2 Person Scramble/Shamble
DESCRIPTION:Please bring cash to register and for Player discussion
URL:https://golfllano.com/event/lrga-2-person-scramble-shamble/
END:VEVENT
BEGIN:VEVENT
DTSTART;TZID=America/Chicago:20260716T173000
DTEND;TZID=America/Chicago:20260716T173000
DTSTAMP:20260424T032312
CREATED:20260421T163555Z
LAST-MODIFIED:20260421T163751Z
UID:10000043-1784223000-1784223000@golfllano.com
SUMMARY:Thursday Scramble
DESCRIPTION:Please call in a register by 4:30pm
URL:https://golfllano.com/event/thursday-scrambles/2026-07-16/
END:VEVENT
BEGIN:VEVENT
DTSTART;TZID=America/Chicago:20260723T173000
DTEND;TZID=America/Chicago:20260723T173000
DTSTAMP:20260424T032312
CREATED:20260421T163555Z
LAST-MODIFIED:20260421T163751Z
UID:10000044-1784827800-1784827800@golfllano.com
SUMMARY:Thursday Scramble
DESCRIPTION:Please call in a register by 4:30pm
URL:https://golfllano.com/event/thursday-scrambles/2026-07-23/
END:VEVENT
BEGIN:VEVENT
DTSTART;TZID=America/Chicago:20260730T173000
DTEND;TZID=America/Chicago:20260730T173000
DTSTAMP:20260424T032312
CREATED:20260421T163555Z
LAST-MODIFIED:20260421T163751Z
UID:10000045-1785432600-1785432600@golfllano.com
SUMMARY:Thursday Scramble
DESCRIPTION:Please call in a register by 4:30pm
URL:https://golfllano.com/event/thursday-scrambles/2026-07-30/
END:VEVENT
BEGIN:VEVENT
DTSTART;TZID=America/Chicago:20260806T173000
DTEND;TZID=America/Chicago:20260806T173000
DTSTAMP:20260424T032312
CREATED:20260421T163555Z
LAST-MODIFIED:20260421T163751Z
UID:10000046-1786037400-1786037400@golfllano.com
SUMMARY:Thursday Scramble
DESCRIPTION:Please call in a register by 4:30pm
URL:https://golfllano.com/event/thursday-scrambles/2026-08-06/
END:VEVENT
BEGIN:VEVENT
DTSTART;TZID=America/Chicago:20260813T173000
DTEND;TZID=America/Chicago:20260813T173000
DTSTAMP:20260424T032312
CREATED:20260421T163555Z
LAST-MODIFIED:20260421T163751Z
UID:10000047-1786642200-1786642200@golfllano.com
SUMMARY:Thursday Scramble
DESCRIPTION:Please call in a register by 4:30pm
URL:https://golfllano.com/event/thursday-scrambles/2026-08-13/
END:VEVENT
BEGIN:VEVENT
DTSTART;TZID=America/Chicago:20260820T173000
DTEND;TZID=America/Chicago:20260820T173000
DTSTAMP:20260424T032312
CREATED:20260421T163555Z
LAST-MODIFIED:20260421T163751Z
UID:10000048-1787247000-1787247000@golfllano.com
SUMMARY:Thursday Scramble
DESCRIPTION:Please call in a register by 4:30pm
URL:https://golfllano.com/event/thursday-scrambles/2026-08-20/
END:VEVENT
BEGIN:VEVENT
DTSTART;TZID=America/Chicago:20260926T090000
DTEND;TZID=America/Chicago:20260926T090000
DTSTAMP:20260424T032312
CREATED:20260421T162458Z
LAST-MODIFIED:20260421T162527Z
UID:10000030-1790413200-1790413200@golfllano.com
SUMMARY:Llano Music Fest Golf Tournament
DESCRIPTION:
URL:https://golfllano.com/event/3327/
END:VEVENT
END:VCALENDAR